BEGIN:VCALENDAR
VERSION:2.0
PRODID:-//Denios Market - ECPv5.4.0.2//NONSGML v1.0//EN
CALSCALE:GREGORIAN
METHOD:PUBLISH
X-WR-CALNAME:Denios Market
X-ORIGINAL-URL:https://deniosmarket.com
X-WR-CALDESC:Events for Denios Market
BEGIN:VTIMEZONE
TZID:UTC
BEGIN:STANDARD
TZOFFSETFROM:+0000
TZOFFSETTO:+0000
TZNAME:UTC
DTSTART:20200101T000000
END:STANDARD
END:VTIMEZONE
BEGIN:VEVENT
DTSTART;TZID=UTC:20200314T113000
DTEND;TZID=UTC:20200314T140000
DTSTAMP:20260423T003320
CREATED:20200211T182536Z
LAST-MODIFIED:20200211T182536Z
UID:7097-1584185400-1584194400@deniosmarket.com
SUMMARY:River City Outlaws
DESCRIPTION:River City Outlaws brings an element of attitude and energy integrated into Classic/ Southern Rock & Outlaw Country.
URL:https://deniosmarket.com/event/river-city-outlaws/
LOCATION:Denio’s Market Plaza Live!\, 1551 Vineyard Road\, Roseville\, CA\, 95678\, United States
CATEGORIES:Market Plaza Live
ATTACH;FMTTYPE=image/jpeg:https://deniosmarket.com/wp-content/uploads/Rvr-City-Outlaws.jpg
END:VEVENT
END:VCALENDAR