BEGIN:VCALENDAR
VERSION:2.0
PRODID:-//Denios Market - ECPv5.4.0.2//NONSGML v1.0//EN
CALSCALE:GREGORIAN
METHOD:PUBLISH
X-WR-CALNAME:Denios Market
X-ORIGINAL-URL:https://deniosmarket.com
X-WR-CALDESC:Events for Denios Market
BEGIN:VTIMEZONE
TZID:UTC
BEGIN:STANDARD
TZOFFSETFROM:+0000
TZOFFSETTO:+0000
TZNAME:UTC
DTSTART:20230101T000000
END:STANDARD
END:VTIMEZONE
BEGIN:VEVENT
DTSTART;TZID=UTC:20230407T080000
DTEND;TZID=UTC:20230407T100000
DTSTAMP:20260420T204242
CREATED:20230118T202424Z
LAST-MODIFIED:20230118T202424Z
UID:8016-1680854400-1680861600@deniosmarket.com
SUMMARY:Pantry To Go
DESCRIPTION:Join us the first Friday of every month at Denio’s for this FREE Pantry To Go. This is a no pre-register event. for more information go to placerfoodbank.org
URL:https://deniosmarket.com/event/pantry-to-go-4/
LOCATION:Denio’s Market\, 1551 Vineyard Rd\, Roseville\, CA\, 95678\, United States
ATTACH;FMTTYPE=image/png:https://deniosmarket.com/wp-content/uploads/2023-Denios-Pantry-to-Go-Poster.png
ORGANIZER;CN="Placer%20Food%20Bank":MAILTO:johnny@placerfoodbank.org
END:VEVENT
END:VCALENDAR