BEGIN:VCALENDAR
VERSION:2.0
PRODID:-//Denios Market - ECPv5.4.0.2//NONSGML v1.0//EN
CALSCALE:GREGORIAN
METHOD:PUBLISH
X-WR-CALNAME:Denios Market
X-ORIGINAL-URL:https://deniosmarket.com
X-WR-CALDESC:Events for Denios Market
BEGIN:VTIMEZONE
TZID:UTC
BEGIN:STANDARD
TZOFFSETFROM:+0000
TZOFFSETTO:+0000
TZNAME:UTC
DTSTART:20180101T000000
END:STANDARD
END:VTIMEZONE
BEGIN:VEVENT
DTSTART;TZID=UTC:20180624T110000
DTEND;TZID=UTC:20180624T150000
DTSTAMP:20260421T062218
CREATED:20180502T204151Z
LAST-MODIFIED:20180502T204431Z
UID:3074-1529838000-1529852400@deniosmarket.com
SUMMARY:Paint Nite at Denio's
DESCRIPTION:Express yourself! Getting creative is good for the soul and Paint Nite @ Denio’s makes it easy! Click HERE to purchase tickets and for all the details!
URL:https://deniosmarket.com/event/paint-nite-at-denios/
LOCATION:Denio’s Market\, 1551 Vineyard Rd\, Roseville\, CA\, 95678\, United States
ATTACH;FMTTYPE=image/png:https://deniosmarket.com/wp-content/uploads/paint-nite.png
END:VEVENT
END:VCALENDAR