BEGIN:VCALENDAR
VERSION:2.0
PRODID:-//Denios Market - ECPv5.4.0.2//NONSGML v1.0//EN
CALSCALE:GREGORIAN
METHOD:PUBLISH
X-WR-CALNAME:Denios Market
X-ORIGINAL-URL:https://deniosmarket.com
X-WR-CALDESC:Events for Denios Market
BEGIN:VTIMEZONE
TZID:UTC
BEGIN:STANDARD
TZOFFSETFROM:+0000
TZOFFSETTO:+0000
TZNAME:UTC
DTSTART:20230101T000000
END:STANDARD
END:VTIMEZONE
BEGIN:VEVENT
DTSTART;TZID=UTC:20230401T070000
DTEND;TZID=UTC:20230430T170000
DTSTAMP:20260420T220302
CREATED:20230314T170600Z
LAST-MODIFIED:20230314T170730Z
UID:8112-1680332400-1682874000@deniosmarket.com
SUMMARY:Nonprofit Month At Denio's
DESCRIPTION:Calling all nonprofit organizations!\nReserve your FREE space today and promote your organization to hundreds of shoppers! For the entire month of April\, Denio’s is giving away one free space to any nonprofit in the area on any Saturday or Sunday of your choice between April 1st & April 30th.\nFor more information or to reserve your spot email Kevin Hernandez at KHernandez@deniosmarket.com.
URL:https://deniosmarket.com/event/nonprofit-month-at-denios/
LOCATION:Denio’s Market\, 1551 Vineyard Rd\, Roseville\, CA\, 95678\, United States
ATTACH;FMTTYPE=image/png:https://deniosmarket.com/wp-content/uploads/Non-profit-Month-.png
END:VEVENT
END:VCALENDAR