BEGIN:VCALENDAR
VERSION:2.0
PRODID:-//Denios Market - ECPv5.4.0.2//NONSGML v1.0//EN
CALSCALE:GREGORIAN
METHOD:PUBLISH
X-WR-CALNAME:Denios Market
X-ORIGINAL-URL:https://deniosmarket.com
X-WR-CALDESC:Events for Denios Market
BEGIN:VTIMEZONE
TZID:UTC
BEGIN:STANDARD
TZOFFSETFROM:+0000
TZOFFSETTO:+0000
TZNAME:UTC
DTSTART:20170101T000000
END:STANDARD
END:VTIMEZONE
BEGIN:VEVENT
DTSTART;TZID=UTC:20170430T100000
DTEND;TZID=UTC:20170430T153000
DTSTAMP:20260421T092607
CREATED:20170307T193620Z
LAST-MODIFIED:20170426T203551Z
UID:2468-1493546400-1493566200@deniosmarket.com
SUMMARY:Nonprofit Day at Denio's
DESCRIPTION:Calling all nonprofit organizations! Denio’s will be hosting a nonprofit day on Sunday\, April 30\, 2017. Reserve your free space today and promote your organization. Sign-up by clicking HERE.  Email any questions to Adrian Acosta or give Adrian a call at 916-782-2704.
URL:https://deniosmarket.com/event/nonprofit-day-at-denios/
LOCATION:Denio’s Market\, 1551 Vineyard Rd\, Roseville\, CA\, 95678\, United States
CATEGORIES:Nonprofit
ATTACH;FMTTYPE=image/png:https://deniosmarket.com/wp-content/uploads/helping-hands-bg.png
END:VEVENT
END:VCALENDAR