BEGIN:VCALENDAR
VERSION:2.0
PRODID:-//Denios Market - ECPv5.4.0.2//NONSGML v1.0//EN
CALSCALE:GREGORIAN
METHOD:PUBLISH
X-WR-CALNAME:Denios Market
X-ORIGINAL-URL:https://deniosmarket.com
X-WR-CALDESC:Events for Denios Market
BEGIN:VTIMEZONE
TZID:UTC
BEGIN:STANDARD
TZOFFSETFROM:+0000
TZOFFSETTO:+0000
TZNAME:UTC
DTSTART:20230101T000000
END:STANDARD
END:VTIMEZONE
BEGIN:VEVENT
DTSTART;TZID=UTC:20230507T123000
DTEND;TZID=UTC:20230507T143000
DTSTAMP:20260420T191358
CREATED:20230118T201227Z
LAST-MODIFIED:20230118T201227Z
UID:8008-1683462600-1683469800@deniosmarket.com
SUMMARY:Mariachi Bonitas De Dinorah Klinger
DESCRIPTION:Continue celebrating Cinco de Mayo as the Mariachi Bonitas de Dinorah Klinger perform on our stage! Market Plaza Live is proudly sponsored by California DMV Auto Registration at 5800-Watt Avenue\, North Highlands\, CA.
URL:https://deniosmarket.com/event/mariachi-bonitas-de-dinorah-klinger-3/
LOCATION:Denio’s Market Plaza Live!\, 1551 Vineyard Road\, Roseville\, CA\, 95678\, United States
ATTACH;FMTTYPE=image/png:https://deniosmarket.com/wp-content/uploads/2023-8x11-Mariachi-bonitas.png
END:VEVENT
END:VCALENDAR