BEGIN:VCALENDAR
VERSION:2.0
PRODID:-//Denios Market - ECPv5.4.0.2//NONSGML v1.0//EN
CALSCALE:GREGORIAN
METHOD:PUBLISH
X-WR-CALNAME:Denios Market
X-ORIGINAL-URL:https://deniosmarket.com
X-WR-CALDESC:Events for Denios Market
BEGIN:VTIMEZONE
TZID:UTC
BEGIN:STANDARD
TZOFFSETFROM:+0000
TZOFFSETTO:+0000
TZNAME:UTC
DTSTART:20220101T000000
END:STANDARD
END:VTIMEZONE
BEGIN:VEVENT
DTSTART;TZID=UTC:20220326T113000
DTEND;TZID=UTC:20220326T133000
DTSTAMP:20260421T044007
CREATED:20220114T174419Z
LAST-MODIFIED:20220114T174508Z
UID:7575-1648294200-1648301400@deniosmarket.com
SUMMARY:Magical Mornings At The Market
DESCRIPTION:Join us for truly magical morning as some of your favorite Princesses’ come to Market Plaza Live to sing and tell stories! Come in your best outfit and be ready for meet and greets and a truly magical experience!
URL:https://deniosmarket.com/event/magical-mornings-at-the-market/
LOCATION:Denio’s Market\, 1551 Vineyard Rd\, Roseville\, CA\, 95678\, United States
ATTACH;FMTTYPE=image/jpeg:https://deniosmarket.com/wp-content/uploads/IG-2022-Princess-Magic-Morning-.jpg
END:VEVENT
END:VCALENDAR