BEGIN:VCALENDAR
VERSION:2.0
PRODID:-//Denios Market - ECPv5.4.0.2//NONSGML v1.0//EN
CALSCALE:GREGORIAN
METHOD:PUBLISH
X-WR-CALNAME:Denios Market
X-ORIGINAL-URL:https://deniosmarket.com
X-WR-CALDESC:Events for Denios Market
BEGIN:VTIMEZONE
TZID:UTC
BEGIN:STANDARD
TZOFFSETFROM:+0000
TZOFFSETTO:+0000
TZNAME:UTC
DTSTART:20240101T000000
END:STANDARD
END:VTIMEZONE
BEGIN:VEVENT
DTSTART;TZID=UTC:20241110T110000
DTEND;TZID=UTC:20241110T130000
DTSTAMP:20260420T191547
CREATED:20240206T192933Z
LAST-MODIFIED:20241105T220514Z
UID:8474-1731236400-1731243600@deniosmarket.com
SUMMARY:Magical Mornings At The Market
DESCRIPTION:Join us at Market Plaza Live and travel into the unknown with us for a truly magical morning! The show starts at 11am and meet and greets last until 1pm! All shows are FREE! Don’t miss out! Market Plaza Live is proudly sponsored by California DMV Auto Registration at 5800-Watt Avenue\, North Highlands\, CA
URL:https://deniosmarket.com/event/magical-mornings-at-the-market-8/
LOCATION:Denio’s Market\, 1551 Vineyard Rd\, Roseville\, CA\, 95678\, United States
ATTACH;FMTTYPE=image/jpeg:https://deniosmarket.com/wp-content/uploads/2024-Christmas-Magic-Morning-2.jpg
END:VEVENT
END:VCALENDAR