BEGIN:VCALENDAR
VERSION:2.0
PRODID:-//Denios Market - ECPv5.4.0.2//NONSGML v1.0//EN
CALSCALE:GREGORIAN
METHOD:PUBLISH
X-WR-CALNAME:Denios Market
X-ORIGINAL-URL:https://deniosmarket.com
X-WR-CALDESC:Events for Denios Market
BEGIN:VTIMEZONE
TZID:UTC
BEGIN:STANDARD
TZOFFSETFROM:+0000
TZOFFSETTO:+0000
TZNAME:UTC
DTSTART:20230101T000000
END:STANDARD
END:VTIMEZONE
BEGIN:VEVENT
DTSTART;TZID=UTC:20230416T110000
DTEND;TZID=UTC:20230416T130000
DTSTAMP:20260420T173903
CREATED:20230125T233644Z
LAST-MODIFIED:20230405T190111Z
UID:8044-1681642800-1681650000@deniosmarket.com
SUMMARY:Magical Mornings At The Market
DESCRIPTION:IMPORTANT UPDATE: Due to rain\, this event has been rescheduled to Sunday\, April 16th. Join us for a magical morning at Denio’s and meet some of your favorite princesses! Performances start at 11am and meet and greets last until 1pm! All shows are FREE! Don’t miss out! Market Plaza Live is proudly sponsored by California DMV Auto Registration at 5800-Watt Avenue\, North Highlands\, CA
URL:https://deniosmarket.com/event/magical-mornings-at-the-market-2/
LOCATION:Denio’s Market Plaza Live!\, 1551 Vineyard Road\, Roseville\, CA\, 95678\, United States
ATTACH;FMTTYPE=image/jpeg:https://deniosmarket.com/wp-content/uploads/Disney-Magic-Morning.jpg
END:VEVENT
END:VCALENDAR