BEGIN:VCALENDAR
VERSION:2.0
PRODID:-//Denios Market - ECPv5.4.0.2//NONSGML v1.0//EN
CALSCALE:GREGORIAN
METHOD:PUBLISH
X-WR-CALNAME:Denios Market
X-ORIGINAL-URL:https://deniosmarket.com
X-WR-CALDESC:Events for Denios Market
BEGIN:VTIMEZONE
TZID:UTC
BEGIN:STANDARD
TZOFFSETFROM:+0000
TZOFFSETTO:+0000
TZNAME:UTC
DTSTART:20230101T000000
END:STANDARD
END:VTIMEZONE
BEGIN:VEVENT
DTSTART;TZID=UTC:20230521T110000
DTEND;TZID=UTC:20230521T130000
DTSTAMP:20260420T161558
CREATED:20230125T234153Z
LAST-MODIFIED:20230125T234153Z
UID:8047-1684666800-1684674000@deniosmarket.com
SUMMARY:Magical Galaxy At The Market
DESCRIPTION:Join us in a galaxy far\, far away for a truly galactic morning! Learn how to use a galaxy saber from the experts and battle evil space villains! Don’t have your own saber? You can buy one here at Denio’s right at Market Plaza Live! Saber training starts at 11am and meet and greets last until 1pm! All shows are FREE! Don’t miss out! Market Plaza Live is proudly sponsored by California DMV Auto Registration at 5800-Watt Avenue\, North Highlands\, CA
URL:https://deniosmarket.com/event/magical-galaxy-at-the-market/
LOCATION:Denio’s Market Plaza Live!\, 1551 Vineyard Road\, Roseville\, CA\, 95678\, United States
ATTACH;FMTTYPE=image/png:https://deniosmarket.com/wp-content/uploads/2023-Magical-Galaxy-at-the-Market-2.png
END:VEVENT
END:VCALENDAR