BEGIN:VCALENDAR
VERSION:2.0
PRODID:-//Denios Market - ECPv5.4.0.2//NONSGML v1.0//EN
CALSCALE:GREGORIAN
METHOD:PUBLISH
X-WR-CALNAME:Denios Market
X-ORIGINAL-URL:https://deniosmarket.com
X-WR-CALDESC:Events for Denios Market
BEGIN:VTIMEZONE
TZID:UTC
BEGIN:STANDARD
TZOFFSETFROM:+0000
TZOFFSETTO:+0000
TZNAME:UTC
DTSTART:20180101T000000
END:STANDARD
END:VTIMEZONE
BEGIN:VEVENT
DTSTART;TZID=UTC:20180318T120000
DTEND;TZID=UTC:20180318T163000
DTSTAMP:20260421T075357
CREATED:20180308T231423Z
LAST-MODIFIED:20180308T231423Z
UID:3005-1521374400-1521390600@deniosmarket.com
SUMMARY:Lucha Libre
DESCRIPTION:LUCHA LIBRE AT DENIO’S. Pro Wrestling will be at the market on Sunday\, March 18\, 2018. Doors Open at 12pm\, Event Begins at 1pm. Located at Denio’s in the J & M Market Hall\, located near the “Flats”. \nTickets: Adults $15\, Kids $10. http://ticketon.co/9c64c\nFor more information\, call Carlos @ 916-862-7457
URL:https://deniosmarket.com/event/lucha-libre-3/
LOCATION:Denio’s Market\, 1551 Vineyard Rd\, Roseville\, CA\, 95678\, United States
ATTACH;FMTTYPE=image/jpeg:https://deniosmarket.com/wp-content/uploads/3-18-2018-Event-for-FB.jpg
END:VEVENT
END:VCALENDAR