BEGIN:VCALENDAR
VERSION:2.0
PRODID:-//Denios Market - ECPv5.4.0.2//NONSGML v1.0//EN
CALSCALE:GREGORIAN
METHOD:PUBLISH
X-WR-CALNAME:Denios Market
X-ORIGINAL-URL:https://deniosmarket.com
X-WR-CALDESC:Events for Denios Market
BEGIN:VTIMEZONE
TZID:UTC
BEGIN:STANDARD
TZOFFSETFROM:+0000
TZOFFSETTO:+0000
TZNAME:UTC
DTSTART:20180101T000000
END:STANDARD
END:VTIMEZONE
BEGIN:VEVENT
DTSTART;TZID=UTC:20180225T120000
DTEND;TZID=UTC:20180225T153000
DTSTAMP:20260421T075356
CREATED:20180205T230401Z
LAST-MODIFIED:20180205T230401Z
UID:2922-1519560000-1519572600@deniosmarket.com
SUMMARY:Lucha Libre
DESCRIPTION:LUCHA LIBRE AT DENIO’S.  Pro Wrestling will be at the market on Sunday\, February 25th\, 2018.  Doors Open at 12pm\, Event Begins at 1pm.  Located at Denio’s in the J & M Market Hall\, located near the “Flats”. \nTickets: Adults $15\, Kids $10.\nFor more information\, call Carlos @ 916-862-7457
URL:https://deniosmarket.com/event/lucha-libre-2/
LOCATION:Denio’s Market\, 1551 Vineyard Rd\, Roseville\, CA\, 95678\, United States
ATTACH;FMTTYPE=image/png:https://deniosmarket.com/wp-content/uploads/MexicanWrestlingEventatDenios.png
END:VEVENT
END:VCALENDAR