BEGIN:VCALENDAR
VERSION:2.0
PRODID:-//Denios Market - ECPv5.4.0.2//NONSGML v1.0//EN
CALSCALE:GREGORIAN
METHOD:PUBLISH
X-WR-CALNAME:Denios Market
X-ORIGINAL-URL:https://deniosmarket.com
X-WR-CALDESC:Events for Denios Market
BEGIN:VTIMEZONE
TZID:UTC
BEGIN:STANDARD
TZOFFSETFROM:+0000
TZOFFSETTO:+0000
TZNAME:UTC
DTSTART:20240101T000000
END:STANDARD
END:VTIMEZONE
BEGIN:VEVENT
DTSTART;TZID=UTC:20241208T110000
DTEND;TZID=UTC:20241222T150000
DTSTAMP:20260420T040839
CREATED:20241114T204231Z
LAST-MODIFIED:20241114T204354Z
UID:8735-1733655600-1734879600@deniosmarket.com
SUMMARY:FREE Photos with Santa!
DESCRIPTION:Attention shoppers! We are so excited to announce that Santa Claus is coming to Denio’s!!! Starting Sunday\, December 8th come and get your FREE photos with Santa at Market Plaza! Please note that Santa’s hours are subject to change if the weather is bad  We can’t wait to see you!! \n  \n\nSanta Photo Times: \nSaturdays: 11am-2pm \nSundays: 1pm-3pm
URL:https://deniosmarket.com/event/free-photos-with-santa/
LOCATION:Denio’s Market\, 1551 Vineyard Rd\, Roseville\, CA\, 95678\, United States
ATTACH;FMTTYPE=image/jpeg:https://deniosmarket.com/wp-content/uploads/8x11-santa-at-Denios.jpg
END:VEVENT
END:VCALENDAR