BEGIN:VCALENDAR
VERSION:2.0
PRODID:-//Denios Market - ECPv5.4.0.2//NONSGML v1.0//EN
CALSCALE:GREGORIAN
METHOD:PUBLISH
X-WR-CALNAME:Denios Market
X-ORIGINAL-URL:https://deniosmarket.com
X-WR-CALDESC:Events for Denios Market
BEGIN:VTIMEZONE
TZID:UTC
BEGIN:STANDARD
TZOFFSETFROM:+0000
TZOFFSETTO:+0000
TZNAME:UTC
DTSTART:20220101T000000
END:STANDARD
END:VTIMEZONE
BEGIN:VEVENT
DTSTART;TZID=UTC:20220528T070000
DTEND;TZID=UTC:20220528T153000
DTSTAMP:20260421T030301
CREATED:20220208T191136Z
LAST-MODIFIED:20220208T191136Z
UID:7634-1653721200-1653751800@deniosmarket.com
SUMMARY:Free Garage Sale Day
DESCRIPTION:Are you ready to cash in on your Spring cleaning? Make the most of your cleaning this Holiday weekend and sell your items for FREE at the area’s largest swap meet! One free space will be offered to any new garage sale vendor! Reserve your space today!
URL:https://deniosmarket.com/event/free-garage-sale-day-2/
LOCATION:Denio’s Market\, 1551 Vineyard Rd\, Roseville\, CA\, 95678\, United States
CATEGORIES:Garage Sale Day
ATTACH;FMTTYPE=image/png:https://deniosmarket.com/wp-content/uploads/Free-Garage-Sale-Day-3.png
END:VEVENT
END:VCALENDAR