BEGIN:VCALENDAR
VERSION:2.0
PRODID:-//Denios Market - ECPv5.4.0.2//NONSGML v1.0//EN
CALSCALE:GREGORIAN
METHOD:PUBLISH
X-WR-CALNAME:Denios Market
X-ORIGINAL-URL:https://deniosmarket.com
X-WR-CALDESC:Events for Denios Market
BEGIN:VTIMEZONE
TZID:UTC
BEGIN:STANDARD
TZOFFSETFROM:+0000
TZOFFSETTO:+0000
TZNAME:UTC
DTSTART:20230101T000000
END:STANDARD
END:VTIMEZONE
BEGIN:VEVENT
DTSTART;TZID=UTC:20230602T100000
DTEND;TZID=UTC:20230602T140000
DTSTAMP:20260420T161446
CREATED:20230522T233652Z
LAST-MODIFIED:20230601T192131Z
UID:8241-1685700000-1685714400@deniosmarket.com
SUMMARY:Food Truck Friday
DESCRIPTION:Join us Friday\, June 2nd for our FOOD TRUCK FRIDAY at Denio’s! Every Friday we will be welcoming any and all food trucks to come out and sell food! Tell your friends and family! We hope you come hungry and leave happy! \nOn Friday\, June 2nd come and enjoy the following food trucks: \nAuthentic Street Taco: @AuthenticStreetTaco:\nBubble Cone: @bubblecones\nCafe a la Mode: @cafemode.sac\nDave’s Dawgs: @_davesdawgs
URL:https://deniosmarket.com/event/food-truck-friday-9/
LOCATION:Denio’s Market\, 1551 Vineyard Rd\, Roseville\, CA\, 95678\, United States
END:VEVENT
END:VCALENDAR