BEGIN:VCALENDAR
VERSION:2.0
PRODID:-//Denios Market - ECPv5.4.0.2//NONSGML v1.0//EN
CALSCALE:GREGORIAN
METHOD:PUBLISH
X-WR-CALNAME:Denios Market
X-ORIGINAL-URL:https://deniosmarket.com
X-WR-CALDESC:Events for Denios Market
BEGIN:VTIMEZONE
TZID:UTC
BEGIN:STANDARD
TZOFFSETFROM:+0000
TZOFFSETTO:+0000
TZNAME:UTC
DTSTART:20230101T000000
END:STANDARD
END:VTIMEZONE
BEGIN:VEVENT
DTSTART;TZID=UTC:20230526T100000
DTEND;TZID=UTC:20230526T140000
DTSTAMP:20260420T161604
CREATED:20230515T220834Z
LAST-MODIFIED:20230522T231804Z
UID:8232-1685095200-1685109600@deniosmarket.com
SUMMARY:Food Truck Friday
DESCRIPTION:Join us Friday\, May 26th for our FOOD TRUCK FRIDAY at Denio’s! Every Friday we will be welcoming any and all food trucks to come out and sell food! Tell your friends and family! We hope you come hungry and leave happy! \nOn Friday\, May 26th come and enjoy the following food trucks: \ncafe a la mode: @cafemode.sac\ndave’s dawgs: @_davesdawgs\nEl Ciriancito: @elciriancito\nthe fry boys: @thefryboysnorcal\nKado’s Asian Grill: @kadosasiangrill
URL:https://deniosmarket.com/event/food-truck-friday-8/
LOCATION:Denio’s Market\, 1551 Vineyard Rd\, Roseville\, CA\, 95678\, United States
ATTACH;FMTTYPE=image/png:https://deniosmarket.com/wp-content/uploads/May-26th-2.png
END:VEVENT
END:VCALENDAR