BEGIN:VCALENDAR
VERSION:2.0
PRODID:-//Denios Market - ECPv5.4.0.2//NONSGML v1.0//EN
CALSCALE:GREGORIAN
METHOD:PUBLISH
X-WR-CALNAME:Denios Market
X-ORIGINAL-URL:https://deniosmarket.com
X-WR-CALDESC:Events for Denios Market
BEGIN:VTIMEZONE
TZID:UTC
BEGIN:STANDARD
TZOFFSETFROM:+0000
TZOFFSETTO:+0000
TZNAME:UTC
DTSTART:20230101T000000
END:STANDARD
END:VTIMEZONE
BEGIN:VEVENT
DTSTART;TZID=UTC:20230421T100000
DTEND;TZID=UTC:20230421T140000
DTSTAMP:20260420T173756
CREATED:20230405T175338Z
LAST-MODIFIED:20230420T232434Z
UID:8161-1682071200-1682085600@deniosmarket.com
SUMMARY:Food Truck Friday
DESCRIPTION:Join us Friday\, April 21st for our FOOD TRUCK FRIDAY at Denio’s! Every Friday we will be welcoming any and all food trucks to come out and sell food! Tell your friends and family! We hope you come hungry and leave happy!\n\n\nOn Friday\, April 21st come and enjoy the following food trucks:\n\nAuthentic Street Taco: @authenticstreettaco\nJefita’z Menudo: @Jefitazmenudo\nNola’s Kitchen LLC : @Nolas_Kitchen7\nOutlaw Cuisine Food Trucks: @Outlaw_Cuisine916\nWest Coast Taco Bar: @WestCoastTacoBar\nYolanda’s Tamales: @YoTamales
URL:https://deniosmarket.com/event/food-truck-friday-3/
LOCATION:Denio’s Market\, 1551 Vineyard Rd\, Roseville\, CA\, 95678\, United States
ATTACH;FMTTYPE=image/png:https://deniosmarket.com/wp-content/uploads/April-21st-1-1.png
END:VEVENT
END:VCALENDAR