BEGIN:VCALENDAR
VERSION:2.0
PRODID:-//Denios Market - ECPv5.4.0.2//NONSGML v1.0//EN
CALSCALE:GREGORIAN
METHOD:PUBLISH
X-WR-CALNAME:Denios Market
X-ORIGINAL-URL:https://deniosmarket.com
X-WR-CALDESC:Events for Denios Market
BEGIN:VTIMEZONE
TZID:UTC
BEGIN:STANDARD
TZOFFSETFROM:+0000
TZOFFSETTO:+0000
TZNAME:UTC
DTSTART:20230101T000000
END:STANDARD
END:VTIMEZONE
BEGIN:VEVENT
DTSTART;TZID=UTC:20230901T100000
DTEND;TZID=UTC:20230901T140000
DTSTAMP:20260420T204111
CREATED:20230818T203135Z
LAST-MODIFIED:20230824T215612Z
UID:8363-1693562400-1693576800@deniosmarket.com
SUMMARY:FOOD TRUCK FRIDAY
DESCRIPTION:Join us Friday\, September 1st for our FOOD TRUCK FRIDAY at Denio’s! Every Friday we will be welcoming any and all food trucks to come out and sell food! Tell your friends and family! We hope you come hungry and leave happy!\n\nOn Friday\, September 1st come and enjoy the following food trucks:\nBrissa Blanca Pupusas: @brissablanca_pupusas\nCousins Maine Lobster: @cousinsmainelobster\nSubs-N-Grubs: cvtcinc.com
URL:https://deniosmarket.com/event/food-truck-friday-22/
LOCATION:Denio’s Market\, 1551 Vineyard Rd\, Roseville\, CA\, 95678\, United States
ATTACH;FMTTYPE=image/jpeg:https://deniosmarket.com/wp-content/uploads/September-1st-1.jpg
END:VEVENT
END:VCALENDAR