BEGIN:VCALENDAR
VERSION:2.0
PRODID:-//Denios Market - ECPv5.4.0.2//NONSGML v1.0//EN
CALSCALE:GREGORIAN
METHOD:PUBLISH
X-WR-CALNAME:Denios Market
X-ORIGINAL-URL:https://deniosmarket.com
X-WR-CALDESC:Events for Denios Market
BEGIN:VTIMEZONE
TZID:UTC
BEGIN:STANDARD
TZOFFSETFROM:+0000
TZOFFSETTO:+0000
TZNAME:UTC
DTSTART:20220101T000000
END:STANDARD
END:VTIMEZONE
BEGIN:VEVENT
DTSTART;TZID=UTC:20220423T110000
DTEND;TZID=UTC:20220423T130000
DTSTAMP:20260421T030449
CREATED:20220208T190051Z
LAST-MODIFIED:20220329T181819Z
UID:7631-1650711600-1650718800@deniosmarket.com
SUMMARY:Dog Day Of Fun
DESCRIPTION:Dog Day of Fun is BACK and BIGGER than ever! Join us for the annual Wiener Dog Races\, Wanna-Be-Wiener costume parade and see which pooch takes the top prize! This event will be dog-gone-tastic\, so don’t miss out!! Click below to find out how to register your pooch for the race and parade!
URL:https://deniosmarket.com/event/dog-day-of-fun/
LOCATION:Denio’s Market\, 1551 Vineyard Rd\, Roseville\, CA\, 95678\, United States
ATTACH;FMTTYPE=image/png:https://deniosmarket.com/wp-content/uploads/Copy-of-Dog-Day-Rescheduled-1.png
END:VEVENT
END:VCALENDAR