BEGIN:VCALENDAR
VERSION:2.0
PRODID:-//Denios Market - ECPv5.4.0.2//NONSGML v1.0//EN
CALSCALE:GREGORIAN
METHOD:PUBLISH
X-WR-CALNAME:Denios Market
X-ORIGINAL-URL:https://deniosmarket.com
X-WR-CALDESC:Events for Denios Market
BEGIN:VTIMEZONE
TZID:UTC
BEGIN:STANDARD
TZOFFSETFROM:+0000
TZOFFSETTO:+0000
TZNAME:UTC
DTSTART:20180101T000000
END:STANDARD
END:VTIMEZONE
BEGIN:VEVENT
DTSTART;TZID=UTC:20180324T110000
DTEND;TZID=UTC:20180324T120000
DTSTAMP:20260421T081016
CREATED:20180215T181241Z
LAST-MODIFIED:20180215T181241Z
UID:2971-1521889200-1521892800@deniosmarket.com
SUMMARY:Dog Day of Fun 2018
DESCRIPTION:Saturday\, March 24\, 2018\, 11am-1pm Celebrate National Something on a Stick Day at Denio’s! \n– Corn dog eating competition\n– Wiener dog races\n– Wanna-Be-A-Wiener dog costume parade\n– Small dog races \nDachshund Dog Festivities \n100% of all dog race and parade proceeds will benefit the Placer County SPCA. Also\, the Placer County SPCA will be on-site with adoptable pets. \n Race check-in is 10:00a.m.\, Race starts at 11:am. Parade to follow.\n \nCorn Dog Eating Competition\nDo you have what it takes? We’re looking for this year’s champion! 1st place will walk away with $200 CASH and the coveted Corn Dog Trophy and bragging rights… 2nd place $100 CASH and 3rd with $50 CASH. \nThe contest begins promptly on Saturday\, March 24th at 12 p.m. – eat as many dogs as you can in this 4 minute timed event. SPACE IS LIMITED – to secure your spot today! \nRegister Today: https://goo.gl/H6V1Au
URL:https://deniosmarket.com/event/dog-day-of-fun-2018/
LOCATION:Denio’s Market\, 1551 Vineyard Rd\, Roseville\, CA\, 95678\, United States
ATTACH;FMTTYPE=image/png:https://deniosmarket.com/wp-content/uploads/Screen-Shot-2016-03-28-at-11.55.13-AM.png
END:VEVENT
END:VCALENDAR