BEGIN:VCALENDAR
VERSION:2.0
PRODID:-//Denios Market - ECPv5.4.0.2//NONSGML v1.0//EN
CALSCALE:GREGORIAN
METHOD:PUBLISH
X-WR-CALNAME:Denios Market
X-ORIGINAL-URL:https://deniosmarket.com
X-WR-CALDESC:Events for Denios Market
BEGIN:VTIMEZONE
TZID:UTC
BEGIN:STANDARD
TZOFFSETFROM:+0000
TZOFFSETTO:+0000
TZNAME:UTC
DTSTART:20170101T000000
END:STANDARD
END:VTIMEZONE
BEGIN:VEVENT
DTSTART;TZID=UTC:20170325T110000
DTEND;TZID=UTC:20170325T130000
DTSTAMP:20260421T095546
CREATED:20170122T043212Z
LAST-MODIFIED:20170307T193728Z
UID:2255-1490439600-1490446800@deniosmarket.com
SUMMARY:Dog Day at Denio’s 2017
DESCRIPTION:CELEBRATE NATIONAL SOMETHING ON A STICK DAY AT DENIO’S! \nCorn dog eating competition Wiener dog races Wanna-Be-A-Wiener dog costume parade Small dog races THE COMPETITION IS GOING TO BE DOG-GONE CRAZY! The Placer County SPCA will be on-site with adoptable pets and will benefit from proceeds of the event. \nEnter the Corn Dog Eating Contest by clicking HERE \nEnter your pup in the Wiener Dog Race by clicking HERE
URL:https://deniosmarket.com/event/dog-day-2017/
LOCATION:Denio’s Market\, 1551 Vineyard Rd\, Roseville\, CA\, 95678\, United States
ATTACH;FMTTYPE=image/jpeg:https://deniosmarket.com/wp-content/uploads/Denios-Events_Page_Header.jpg
END:VEVENT
END:VCALENDAR