BEGIN:VCALENDAR
VERSION:2.0
PRODID:-//Denios Market - ECPv5.4.0.2//NONSGML v1.0//EN
CALSCALE:GREGORIAN
METHOD:PUBLISH
X-WR-CALNAME:Denios Market
X-ORIGINAL-URL:https://deniosmarket.com
X-WR-CALDESC:Events for Denios Market
BEGIN:VTIMEZONE
TZID:UTC
BEGIN:STANDARD
TZOFFSETFROM:+0000
TZOFFSETTO:+0000
TZNAME:UTC
DTSTART:20180101T000000
END:STANDARD
END:VTIMEZONE
BEGIN:VEVENT
DTSTART;TZID=UTC:20180513T130000
DTEND;TZID=UTC:20180513T160000
DTSTAMP:20260421T081016
CREATED:20180321T194958Z
LAST-MODIFIED:20180321T194958Z
UID:3018-1526216400-1526227200@deniosmarket.com
SUMMARY:Creatively Carrie
DESCRIPTION:Join an afternoon of painting fun for everyone and celebrate mom! This special Mother’s Day “Paint Nite” experience led by a local artist is open to painters ages 6 and up. All painting supplies and instruction are included. \nThis is the perfect FAMILY ACTIVITY – make a mom’s day memory and enjoy the power of being creative together!
URL:https://deniosmarket.com/event/creatively-carrie-2/
LOCATION:Denio’s Market\, 1551 Vineyard Rd\, Roseville\, CA\, 95678\, United States
ATTACH;FMTTYPE=image/jpeg:https://deniosmarket.com/wp-content/uploads/Creatively-Carrie-moms-day-event.jpg
END:VEVENT
END:VCALENDAR