BEGIN:VCALENDAR
VERSION:2.0
PRODID:-//Denios Market - ECPv5.4.0.2//NONSGML v1.0//EN
CALSCALE:GREGORIAN
METHOD:PUBLISH
X-WR-CALNAME:Denios Market
X-ORIGINAL-URL:https://deniosmarket.com
X-WR-CALDESC:Events for Denios Market
BEGIN:VTIMEZONE
TZID:UTC
BEGIN:STANDARD
TZOFFSETFROM:+0000
TZOFFSETTO:+0000
TZNAME:UTC
DTSTART:20240101T000000
END:STANDARD
END:VTIMEZONE
BEGIN:VEVENT
DTSTART;TZID=UTC:20240907T090000
DTEND;TZID=UTC:20240907T140000
DTSTAMP:20260420T173817
CREATED:20231004T234340Z
LAST-MODIFIED:20231004T234344Z
UID:8403-1725699600-1725717600@deniosmarket.com
SUMMARY:Cool September Morning Classic Car
DESCRIPTION:SAVE THE DATE as The Cappuccino Cruisers Presents: Cool September Morning Classic Car Show! Take a ride back in time and enjoy classic cars or enter your car to win BIG prizes! REGISTRATION FOR THIS EVENT WILL BE AVAILABLE IN THE SECOND HALF OF 2024!
URL:https://deniosmarket.com/event/cool-september-morning-classic-car/
LOCATION:Denio’s Market\, 1551 Vineyard Rd\, Roseville\, CA\, 95678\, United States
ATTACH;FMTTYPE=image/jpeg:https://deniosmarket.com/wp-content/uploads/2024-Cappuccino-Cruisers-Car-Show.jpg
END:VEVENT
END:VCALENDAR