BEGIN:VCALENDAR
VERSION:2.0
PRODID:-//Denios Market - ECPv5.4.0.2//NONSGML v1.0//EN
CALSCALE:GREGORIAN
METHOD:PUBLISH
X-WR-CALNAME:Denios Market
X-ORIGINAL-URL:https://deniosmarket.com
X-WR-CALDESC:Events for Denios Market
BEGIN:VTIMEZONE
TZID:UTC
BEGIN:STANDARD
TZOFFSETFROM:+0000
TZOFFSETTO:+0000
TZNAME:UTC
DTSTART:20170101T000000
END:STANDARD
END:VTIMEZONE
BEGIN:VEVENT
DTSTART;TZID=UTC:20171209T100000
DTEND;TZID=UTC:20171223T140000
DTSTAMP:20260421T104722
CREATED:20171109T192525Z
LAST-MODIFIED:20171116T175404Z
UID:2705-1512813600-1514037600@deniosmarket.com
SUMMARY:Christmas at Denio's 12/9-10 & 12/16-17 & 12/23
DESCRIPTION:Santa will be here from 10am-2pm on 12/9-10\, 12/16-17 and 12/23.  Little ones can have their photos taken with Santa\, visit Santa’s petting zoo and take a reindeer ride!    Find unique gifts for all the special people on your gift list this year at Denio’s!  Merry Christmas from all of us at Denio’s!
URL:https://deniosmarket.com/event/christmas-at-denios/
LOCATION:Denio’s Market\, 1551 Vineyard Rd\, Roseville\, CA\, 95678\, United States
ATTACH;FMTTYPE=image/png:https://deniosmarket.com/wp-content/uploads/santa-and-reindeer.png
END:VEVENT
END:VCALENDAR