BEGIN:VCALENDAR
VERSION:2.0
PRODID:-//Denios Market - ECPv5.4.0.2//NONSGML v1.0//EN
CALSCALE:GREGORIAN
METHOD:PUBLISH
X-WR-CALNAME:Denios Market
X-ORIGINAL-URL:https://deniosmarket.com
X-WR-CALDESC:Events for Denios Market
BEGIN:VTIMEZONE
TZID:UTC
BEGIN:STANDARD
TZOFFSETFROM:+0000
TZOFFSETTO:+0000
TZNAME:UTC
DTSTART:20220101T000000
END:STANDARD
END:VTIMEZONE
BEGIN:VEVENT
DTSTART;TZID=UTC:20220910T110000
DTEND;TZID=UTC:20220910T130000
DTSTAMP:20260421T011207
CREATED:20220802T174647Z
LAST-MODIFIED:20220802T204422Z
UID:7817-1662807600-1662814800@deniosmarket.com
SUMMARY:80'z All Stars
DESCRIPTION:Join us on Saturday\, September 10th as Denio’s goes back to the 80’s with 80’z All Stars! This Southern California based band joins us for a very special performance at Market Plaza Live! We hope to see you there! COWABUNGA!!!
URL:https://deniosmarket.com/event/80z-all-stars/
LOCATION:Denio’s Market\, 1551 Vineyard Rd\, Roseville\, CA\, 95678\, United States
ATTACH;FMTTYPE=image/png:https://deniosmarket.com/wp-content/uploads/80-All-stars-8x11-1-1.png
END:VEVENT
END:VCALENDAR