BEGIN:VCALENDAR
VERSION:2.0
PRODID:-//Denios Market - ECPv5.4.0.2//NONSGML v1.0//EN
CALSCALE:GREGORIAN
METHOD:PUBLISH
X-WR-CALNAME:Denios Market
X-ORIGINAL-URL:https://deniosmarket.com
X-WR-CALDESC:Events for Denios Market
BEGIN:VTIMEZONE
TZID:UTC
BEGIN:STANDARD
TZOFFSETFROM:+0000
TZOFFSETTO:+0000
TZNAME:UTC
DTSTART:20180101T000000
END:STANDARD
END:VTIMEZONE
BEGIN:VEVENT
DTSTART;TZID=UTC:20180429T090000
DTEND;TZID=UTC:20180429T153000
DTSTAMP:20260421T081021
CREATED:20180410T182354Z
LAST-MODIFIED:20180410T182456Z
UID:3046-1524992400-1525015800@deniosmarket.com
SUMMARY:2018 Nonprofit Day at Denio's
DESCRIPTION:Calling all nonprofit organizations! Denio’s will be hosting a nonprofit day on Sunday\, April 29\, 2018. Reserve your free space today and promote your organization. \nVisibility\, Exposure\, High Foot Traffic! Join us and other Nonprofits for a fun and exciting day! Thousands of visitors will see your display. Share your information and how your organization benefits the community! \nTo register for the event\, click HERE
URL:https://deniosmarket.com/event/2018-nonprofit-day-at-denios/
LOCATION:Denio’s Market\, 1551 Vineyard Rd\, Roseville\, CA\, 95678\, United States
ATTACH;FMTTYPE=image/png:https://deniosmarket.com/wp-content/uploads/Nonprofit-Day-2018-Logo-2.png
END:VEVENT
END:VCALENDAR